Workbook

Sheet Start Page - Table 1 - Table 1
A1: CrossFit Fishers
A3: Implementation of the 5/3/1 Strength Program
A5: Start here:
A6: Enter your 1RM | B6: Squat F/B/OH
A7: Enter your 1RM | B7: Power Cleans
A8: Enter your 1RM | B8: Push Press
A9: Enter your 1RM | B9: Deadlift

Sheet Month 1
B2: Week 1 | F2: Week 2 | I2: Week 3 | L2: Week 4
B4: WS | C4: 65% x 5 reps | F4: 70% x 3 reps | I4: 75% x 5 reps | L4: 40% x 5 reps
B5: WS | C5: 75% x 5 reps | F5: 80% x 3 reps | I5: 85% x 3 reps | L5: 50% x 5 reps
B6: WS | C6: 85% x 5 or more | F6: 90% x 3 or more | I6: 95% x 1 or more | L6: 60% x 5
L7: DELOAD
B8: MAX | C8: ='Start Page - Table 1 - Table 1'!B6 -> Squat F/B/OH | F8: ='Start Page - Table 1 - Table 1'!B6 -> Squat F/B/OH | I8: ='Start Page - Table 1 - Table 1'!B6 -> Squat F/B/OH | L8: ='Start Page - Table 1 - Table 1'!B6 -> Squat F/B/OH
B9: ='Start Page - Table 1 - Table 1'!C6 -> 0 | C9: =CEILING(B9*0.9,5) -> 0 | F9: =C9 -> 0 | I9: =C9 -> 0 | L9: =C9 -> 0
C10: Reps | D10: Weight | F10: Reps | G10: Weight | I10: Reps | J10: Weight | L10: Reps | M10: Weight
B11: WU | C11: 5 | D11: =CEILING($C$9*0.4,5) -> 0 | F11: 5 | G11: =CEILING($C$9*0.4,5) -> 0 | I11: 5 | J11: =CEILING($C$9*0.4,5) -> 0
B12: WU | C12: 5 | D12: =CEILING($C$9*0.5,5) -> 0 | F12: 5 | G12: =CEILING($C$9*0.5,5) -> 0 | I12: 5 | J12: =CEILING($C$9*0.5,5) -> 0
B13: WU | C13: 3 | D13: =CEILING($C$9*0.6,5) -> 0 | F13: 3 | G13: =CEILING($C$9*0.6,5) -> 0 | I13: 3 | J13: =CEILING($C$9*0.6,5) -> 0
B14: WS | C14: 5 | D14: =CEILING($C$9*0.65,5) -> 0 | F14: 3 | G14: =CEILING($C$9*0.7,5) -> 0 | I14: 5 | J14: =CEILING($C$9*0.75,5) -> 0 | L14: 5 | M14: =CEILING($C$9*0.4,5) -> 0
B15: WS | C15: 5 | D15: =CEILING($C$9*0.75,5) -> 0 | F15: 3 | G15: =CEILING($C$9*0.8,5) -> 0 | I15: 3 | J15: =CEILING($C$9*0.85,5) -> 0 | L15: 5 | M15: =CEILING($C$9*0.5,5) -> 0
B16: WS | C16: 5+ | D16: =CEILING($C$9*0.85,5) -> 0 | F16: 3+ | G16: =CEILING($C$9*0.9,5) -> 0 | I16: 1+ | J16: =CEILING($C$9*0.95,5) -> 0 | L16: 5 | M16: =CEILING($C$9*0.6,5) -> 0
L17: DELOAD
B18: MAX | C18: ='Start Page - Table 1 - Table 1'!B7 -> Power Cleans | F18: ='Start Page - Table 1 - Table 1'!B7 -> Power Cleans | I18: ='Start Page - Table 1 - Table 1'!B7 -> Power Cleans | L18: ='Start Page - Table 1 - Table 1'!B7 -> Power Cleans
B19: ='Start Page - Table 1 - Table 1'!C7 -> 0 | C19: =CEILING(B19*0.9,5) -> 0 | F19: =C19 -> 0 | I19: =C19 -> 0 | L19: =C19 -> 0
C20: Reps | D20: Weight | F20: Reps | G20: Weight | I20: Reps | J20: Weight | L20: Reps | M20: Weight
B21: WU | C21: 5 | D21: =CEILING($C$19*0.4,5) -> 0 | F21: 5 | G21: =CEILING($C$19*0.4,5) -> 0 | I21: 5 | J21: =CEILING($C$19*0.4,5) -> 0
B22: WU | C22: 5 | D22: =CEILING($C$19*0.5,5) -> 0 | F22: 5 | G22: =CEILING($C$19*0.5,5) -> 0 | I22: 5 | J22: =CEILING($C$19*0.5,5) -> 0
B23: WU | C23: 3 | D23: =CEILING($C$19*0.6,5) -> 0 | F23: 3 | G23: =CEILING($C$19*0.6,5) -> 0 | I23: 3 | J23: =CEILING($C$19*0.6,5) -> 0
B24: WS | C24: 5 | D24: =CEILING($C$19*0.65,5) -> 0 | F24: 3 | G24: =CEILING($C$19*0.7,5) -> 0 | I24: 5 | J24: =CEILING($C$19*0.75,5) -> 0 | L24: 5 | M24: =CEILING($C$19*0.4,5) -> 0
B25: WS | C25: 5 | D25: =CEILING($C$19*0.75,5) -> 0 | F25: 3 | G25: =CEILING($C$19*0.8,5) -> 0 | I25: 3 | J25: =CEILING($C$19*0.85,5) -> 0 | L25: 5 | M25: =CEILING($C$19*0.5,5) -> 0
B26: WS | C26: 5+ | D26: =CEILING($C$19*0.85,5) -> 0 | F26: 3+ | G26: =CEILING($C$19*0.89,5) -> 0 | I26: 1+ | J26: =CEILING($C$19*0.95,5) -> 0 | L26: 5 | M26: =CEILING($C$19*0.6,5) -> 0
L27: DELOAD
B28: MAX | C28: ='Start Page - Table 1 - Table 1'!B8 -> Push Press | F28: ='Start Page - Table 1 - Table 1'!B8 -> Push Press | I28: ='Start Page - Table 1 - Table 1'!B8 -> Push Press | L28: ='Start Page - Table 1 - Table 1'!B8 -> Push Press
B29: ='Start Page - Table 1 - Table 1'!C8 -> 0 | C29: =CEILING(B29*0.9,5) -> 0 | F29: =C29 -> 0 | I29: =C29 -> 0 | L29: =C29 -> 0
C30: Reps | D30: Weight | F30: Reps | G30: Weight | I30: Reps | J30: Weight | L30: Reps | M30: Weight
B31: WU | C31: 5 | D31: =CEILING($C$29*0.4,5) -> 0 | F31: 5 | G31: =CEILING($C$29*0.4,5) -> 0 | I31: 5 | J31: =CEILING($C$29*0.4,5) -> 0
B32: WU | C32: 5 | D32: =CEILING($C$29*0.5,5) -> 0 | F32: 5 | G32: =CEILING($C$29*0.5,5) -> 0 | I32: 5 | J32: =CEILING($C$29*0.5,5) -> 0
B33: WU | C33: 3 | D33: =CEILING($C$29*0.6,5) -> 0 | F33: 3 | G33: =CEILING($C$29*0.6,5) -> 0 | I33: 3 | J33: =CEILING($C$29*0.6,5) -> 0
B34: WS | C34: 5 | D34: =CEILING($C$29*0.65,5) -> 0 | F34: 3 | G34: =CEILING($C$29*0.7,5) -> 0 | I34: 5 | J34: =CEILING($C$29*0.75,5) -> 0 | L34: 5 | M34: =CEILING($C$29*0.4,5) -> 0
B35: WS | C35: 5 | D35: =CEILING($C$29*0.75,5) -> 0 | F35: 3 | G35: =CEILING($C$29*0.8,5) -> 0 | I35: 3 | J35: =CEILING($C$29*0.85,5) -> 0 | L35: 5 | M35: =CEILING($C$29*0.5,5) -> 0
B36: WS | C36: 5+ | D36: =CEILING($C$29*0.85,5) -> 0 | F36: 3+ | G36: =CEILING($C$29*0.9,5) -> 0 | I36: 1+ | J36: =CEILING($C$29*0.95,5) -> 0 | L36: 5 | M36: =CEILING($C$29*0.6,5) -> 0
L37: DELOAD
B38: MAX | C38: ='Start Page - Table 1 - Table 1'!B9 -> Deadlift | F38: ='Start Page - Table 1 - Table 1'!B9 -> Deadlift | I38: ='Start Page - Table 1 - Table 1'!B9 -> Deadlift | L38: ='Start Page - Table 1 - Table 1'!B9 -> Deadlift
B39: ='Start Page - Table 1 - Table 1'!C9 -> 0 | C39: =CEILING(B39*0.9,5) -> 0 | F39: =C39 -> 0 | I39: =C39 -> 0 | L39: =C39 -> 0
C40: Reps | D40: Weight | F40: Reps | G40: Weight | I40: Reps | J40: Weight | L40: Reps | M40: Weight
B41: WU | C41: 5 | D41: =CEILING($C$39*0.4,5) -> 0 | F41: 5 | G41: =CEILING($C$39*0.4,5) -> 0 | I41: 5 | J41: =CEILING($C$39*0.4,5) -> 0
B42: WU | C42: 5 | D42: =CEILING($C$39*0.5,5) -> 0 | F42: 5 | G42: =CEILING($C$39*0.5,5) -> 0 | I42: 5 | J42: =CEILING($C$39*0.5,5) -> 0
B43: WU | C43: 3 | D43: =CEILING($C$39*0.6,5) -> 0 | F43: 3 | G43: =CEILING($C$39*0.6,5) -> 0 | I43: 3 | J43: =CEILING($C$39*0.6,5) -> 0
B44: WS | C44: 5 | D44: =CEILING($C$39*0.65,5) -> 0 | F44: 3 | G44: =CEILING($C$39*0.7,5) -> 0 | I44: 5 | J44: =CEILING($C$39*0.75,5) -> 0 | L44: 5 | M44: =CEILING($C$39*0.4,5) -> 0
B45: WS | C45: 5 | D45: =CEILING($C$39*0.75,5) -> 0 | F45: 3 | G45: =CEILING($C$39*0.8,5) -> 0 | I45: 3 | J45: =CEILING($C$39*0.85,5) -> 0 | L45: 5 | M45: =CEILING($C$39*0.5,5) -> 0
B46: WS | C46: 5+ | D46: =CEILING($C$39*0.85,5) -> 0 | F46: 3+ | G46: =CEILING($C$39*0.9,5) -> 0 | I46: 1+ | J46: =CEILING($C$39*0.95,5) -> 0 | L46: 5 | M46: =CEILING($C$39*0.6,5) -> 0

Sheet Month 2
B2: Week 5 | F2: Week 6 | I2: Week 7 | L2: Week 8
B4: WS | C4: 65% x 5 reps | F4: 70% x 3 reps | I4: 75% x 5 reps | L4: 40% x 5 reps
B5: WS | C5: 75% x 5 reps | F5: 80% x 3 reps | I5: 85% x 3 reps | L5: 50% x 5 reps
B6: WS | C6: 85% x 5 or more | F6: 90% x 3 or more | I6: 95% x 1 or more | L6: 60% x 5
L7: DELOAD
B8: MAX | C8: ='Start Page - Table 1 - Table 1'!B6 -> Squat F/B/OH | F8: ='Start Page - Table 1 - Table 1'!B6 -> Squat F/B/OH | I8: ='Start Page - Table 1 - Table 1'!B6 -> Squat F/B/OH | L8: ='Start Page - Table 1 - Table 1'!B6 -> Squat F/B/OH
B9: ='Month 1'!B9+10 -> 10 | C9: =CEILING(B9*0.9,5) -> 10 | F9: =C9 -> 10 | I9: =C9 -> 10 | L9: =C9 -> 10
C10: Reps | D10: Weight | F10: Reps | G10: Weight | I10: Reps | J10: Weight | L10: Reps | M10: Weight
B11: WU | C11: 5 | D11: =CEILING($C$9*0.4,5) -> 5 | F11: 5 | G11: =CEILING($C$9*0.4,5) -> 5 | I11: 5 | J11: =CEILING($C$9*0.4,5) -> 5
B12: WU | C12: 5 | D12: =CEILING($C$9*0.5,5) -> 5 | F12: 5 | G12: =CEILING($C$9*0.5,5) -> 5 | I12: 5 | J12: =CEILING($C$9*0.5,5) -> 5
B13: WU | C13: 3 | D13: =CEILING($C$9*0.6,5) -> 10 | F13: 3 | G13: =CEILING($C$9*0.6,5) -> 10 | I13: 3 | J13: =CEILING($C$9*0.6,5) -> 10
B14: WS | C14: 5 | D14: =CEILING($C$9*0.65,5) -> 10 | F14: 3 | G14: =CEILING($C$9*0.7,5) -> 10 | I14: 5 | J14: =CEILING($C$9*0.75,5) -> 10 | L14: 5 | M14: =CEILING($C$9*0.4,5) -> 5
B15: WS | C15: 5 | D15: =CEILING($C$9*0.75,5) -> 10 | F15: 3 | G15: =CEILING($C$9*0.8,5) -> 10 | I15: 3 | J15: =CEILING($C$9*0.85,5) -> 10 | L15: 5 | M15: =CEILING($C$9*0.5,5) -> 5
B16: WS | C16: 5+ | D16: =CEILING($C$9*0.85,5) -> 10 | F16: 3+ | G16: =CEILING($C$9*0.9,5) -> 10 | I16: 1+ | J16: =CEILING($C$9*0.95,5) -> 10 | L16: 5 | M16: =CEILING($C$9*0.6,5) -> 10
L17: DELOAD
B18: MAX | C18: ='Start Page - Table 1 - Table 1'!B7 -> Power Cleans | F18: ='Start Page - Table 1 - Table 1'!B7 -> Power Cleans | I18: ='Start Page - Table 1 - Table 1'!B7 -> Power Cleans | L18: ='Start Page - Table 1 - Table 1'!B7 -> Power Cleans
B19: ='Month 1'!B19+10 -> 10 | C19: =CEILING(B19*0.9,5) -> 10 | F19: =C19 -> 10 | I19: =C19 -> 10 | L19: =C19 -> 10
C20: Reps | D20: Weight | F20: Reps | G20: Weight | I20: Reps | J20: Weight | L20: Reps | M20: Weight
B21: WU | C21: 5 | D21: =CEILING($C$19*0.4,5) -> 5 | F21: 5 | G21: =CEILING($C$19*0.4,5) -> 5 | I21: 5 | J21: =CEILING($C$19*0.4,5) -> 5
B22: WU | C22: 5 | D22: =CEILING($C$19*0.5,5) -> 5 | F22: 5 | G22: =CEILING($C$19*0.5,5) -> 5 | I22: 5 | J22: =CEILING($C$19*0.5,5) -> 5
B23: WU | C23: 3 | D23: =CEILING($C$19*0.6,5) -> 10 | F23: 3 | G23: =CEILING($C$19*0.6,5) -> 10 | I23: 3 | J23: =CEILING($C$19*0.6,5) -> 10
B24: WS | C24: 5 | D24: =CEILING($C$19*0.65,5) -> 10 | F24: 3 | G24: =CEILING($C$19*0.7,5) -> 10 | I24: 5 | J24: =CEILING($C$19*0.75,5) -> 10 | L24: 5 | M24: =CEILING($C$19*0.4,5) -> 5
B25: WS | C25: 5 | D25: =CEILING($C$19*0.75,5) -> 10 | F25: 3 | G25: =CEILING($C$19*0.8,5) -> 10 | I25: 3 | J25: =CEILING($C$19*0.85,5) -> 10 | L25: 5 | M25: =CEILING($C$19*0.5,5) -> 5
B26: WS | C26: 5+ | D26: =CEILING($C$19*0.85,5) -> 10 | F26: 3+ | G26: =CEILING($C$19*0.89,5) -> 10 | I26: 1+ | J26: =CEILING($C$19*0.95,5) -> 10 | L26: 5 | M26: =CEILING($C$19*0.6,5) -> 10
L27: DELOAD
B28: MAX | C28: ='Start Page - Table 1 - Table 1'!B8 -> Push Press | F28: ='Start Page - Table 1 - Table 1'!B8 -> Push Press | I28: ='Start Page - Table 1 - Table 1'!B8 -> Push Press | L28: ='Start Page - Table 1 - Table 1'!B8 -> Push Press
B29: ='Month 1'!B29+10 -> 10 | C29: =CEILING(B29*0.9,5) -> 10 | F29: =C29 -> 10 | I29: =C29 -> 10 | L29: =C29 -> 10
C30: Reps | D30: Weight | F30: Reps | G30: Weight | I30: Reps | J30: Weight | L30: Reps | M30: Weight
B31: WU | C31: 5 | D31: =CEILING($C$29*0.4,5) -> 5 | F31: 5 | G31: =CEILING($C$29*0.4,5) -> 5 | I31: 5 | J31: =CEILING($C$29*0.4,5) -> 5
B32: WU | C32: 5 | D32: =CEILING($C$29*0.5,5) -> 5 | F32: 5 | G32: =CEILING($C$29*0.5,5) -> 5 | I32: 5 | J32: =CEILING($C$29*0.5,5) -> 5
B33: WU | C33: 3 | D33: =CEILING($C$29*0.6,5) -> 10 | F33: 3 | G33: =CEILING($C$29*0.6,5) -> 10 | I33: 3 | J33: =CEILING($C$29*0.6,5) -> 10
B34: WS | C34: 5 | D34: =CEILING($C$29*0.65,5) -> 10 | F34: 3 | G34: =CEILING($C$29*0.7,5) -> 10 | I34: 5 | J34: =CEILING($C$29*0.75,5) -> 10 | L34: 5 | M34: =CEILING($C$29*0.4,5) -> 5
B35: WS | C35: 5 | D35: =CEILING($C$29*0.75,5) -> 10 | F35: 3 | G35: =CEILING($C$29*0.8,5) -> 10 | I35: 3 | J35: =CEILING($C$29*0.85,5) -> 10 | L35: 5 | M35: =CEILING($C$29*0.5,5) -> 5
B36: WS | C36: 5+ | D36: =CEILING($C$29*0.85,5) -> 10 | F36: 3+ | G36: =CEILING($C$29*0.9,5) -> 10 | I36: 1+ | J36: =CEILING($C$29*0.95,5) -> 10 | L36: 5 | M36: =CEILING($C$29*0.6,5) -> 10
L37: DELOAD
B38: MAX | C38: ='Start Page - Table 1 - Table 1'!B9 -> Deadlift | F38: ='Start Page - Table 1 - Table 1'!B9 -> Deadlift | I38: ='Start Page - Table 1 - Table 1'!B9 -> Deadlift | L38: ='Start Page - Table 1 - Table 1'!B9 -> Deadlift
B39: ='Month 1'!B39+5 -> 5 | C39: =CEILING(B39*0.9,5) -> 5 | F39: =C39 -> 5 | I39: =C39 -> 5 | L39: =C39 -> 5
C40: Reps | D40: Weight | F40: Reps | G40: Weight | I40: Reps | J40: Weight | L40: Reps | M40: Weight
B41: WU | C41: 5 | D41: =CEILING($C$39*0.4,5) -> 5 | F41: 5 | G41: =CEILING($C$39*0.4,5) -> 5 | I41: 5 | J41: =CEILING($C$39*0.4,5) -> 5
B42: WU | C42: 5 | D42: =CEILING($C$39*0.5,5) -> 5 | F42: 5 | G42: =CEILING($C$39*0.5,5) -> 5 | I42: 5 | J42: =CEILING($C$39*0.5,5) -> 5
B43: WU | C43: 3 | D43: =CEILING($C$39*0.6,5) -> 5 | F43: 3 | G43: =CEILING($C$39*0.6,5) -> 5 | I43: 3 | J43: =CEILING($C$39*0.6,5) -> 5
B44: WS | C44: 5 | D44: =CEILING($C$39*0.65,5) -> 5 | F44: 3 | G44: =CEILING($C$39*0.7,5) -> 5 | I44: 5 | J44: =CEILING($C$39*0.75,5) -> 5 | L44: 5 | M44: =CEILING($C$39*0.4,5) -> 5
B45: WS | C45: 5 | D45: =CEILING($C$39*0.75,5) -> 5 | F45: 3 | G45: =CEILING($C$39*0.8,5) -> 5 | I45: 3 | J45: =CEILING($C$39*0.85,5) -> 5 | L45: 5 | M45: =CEILING($C$39*0.5,5) -> 5
B46: WS | C46: 5+ | D46: =CEILING($C$39*0.85,5) -> 5 | F46: 3+ | G46: =CEILING($C$39*0.9,5) -> 5 | I46: 1+ | J46: =CEILING($C$39*0.95,5) -> 5 | L46: 5 | M46: =CEILING($C$39*0.6,5) -> 5

Sheet Month 3
B2: Week 9 | F2: Week 10 | I2: Week 11 | L2: Week 12
B4: WS | C4: 65% x 5 reps | F4: 70% x 3 reps | I4: 75% x 5 reps | L4: 40% x 5 reps
B5: WS | C5: 75% x 5 reps | F5: 80% x 3 reps | I5: 85% x 3 reps | L5: 50% x 5 reps
B6: WS | C6: 85% x 5 or more | F6: 90% x 3 or more | I6: 95% x 1 or more | L6: 60% x 5
L7: DELOAD
B8: MAX | C8: ='Start Page - Table 1 - Table 1'!B6 -> Squat F/B/OH | F8: ='Start Page - Table 1 - Table 1'!B6 -> Squat F/B/OH | I8: ='Start Page - Table 1 - Table 1'!B6 -> Squat F/B/OH | L8: ='Start Page - Table 1 - Table 1'!B6 -> Squat F/B/OH
B9: ='Month 2'!B9+10 -> 20 | C9: =CEILING(B9*0.9,5) -> 20 | F9: =C9 -> 20 | I9: =C9 -> 20 | L9: =C9 -> 20
C10: Reps | D10: Weight | F10: Reps | G10: Weight | I10: Reps | J10: Weight | L10: Reps | M10: Weight
B11: WU | C11: 5 | D11: =CEILING($C$9*0.4,5) -> 10 | F11: 5 | G11: =CEILING($C$9*0.4,5) -> 10 | I11: 5 | J11: =CEILING($C$9*0.4,5) -> 10
B12: WU | C12: 5 | D12: =CEILING($C$9*0.5,5) -> 10 | F12: 5 | G12: =CEILING($C$9*0.5,5) -> 10 | I12: 5 | J12: =CEILING($C$9*0.5,5) -> 10
B13: WU | C13: 3 | D13: =CEILING($C$9*0.6,5) -> 15 | F13: 3 | G13: =CEILING($C$9*0.6,5) -> 15 | I13: 3 | J13: =CEILING($C$9*0.6,5) -> 15
B14: WS | C14: 5 | D14: =CEILING($C$9*0.65,5) -> 15 | F14: 3 | G14: =CEILING($C$9*0.7,5) -> 15 | I14: 5 | J14: =CEILING($C$9*0.75,5) -> 15 | L14: 5 | M14: =CEILING($C$9*0.4,5) -> 10
B15: WS | C15: 5 | D15: =CEILING($C$9*0.75,5) -> 15 | F15: 3 | G15: =CEILING($C$9*0.8,5) -> 20 | I15: 3 | J15: =CEILING($C$9*0.85,5) -> 20 | L15: 5 | M15: =CEILING($C$9*0.5,5) -> 10
B16: WS | C16: 5+ | D16: =CEILING($C$9*0.85,5) -> 20 | F16: 3+ | G16: =CEILING($C$9*0.9,5) -> 20 | I16: 1+ | J16: =CEILING($C$9*0.95,5) -> 20 | L16: 5 | M16: =CEILING($C$9*0.6,5) -> 15
L17: DELOAD
B18: MAX | C18: ='Start Page - Table 1 - Table 1'!B7 -> Power Cleans | F18: ='Start Page - Table 1 - Table 1'!B7 -> Power Cleans | I18: ='Start Page - Table 1 - Table 1'!B7 -> Power Cleans | L18: ='Start Page - Table 1 - Table 1'!B7 -> Power Cleans
B19: ='Month 2'!B19+10 -> 20 | C19: =CEILING(B19*0.9,5) -> 20 | F19: =C19 -> 20 | I19: =C19 -> 20 | L19: =C19 -> 20
C20: Reps | D20: Weight | F20: Reps | G20: Weight | I20: Reps | J20: Weight | L20: Reps | M20: Weight
B21: WU | C21: 5 | D21: =CEILING($C$19*0.4,5) -> 10 | F21: 5 | G21: =CEILING($C$19*0.4,5) -> 10 | I21: 5 | J21: =CEILING($C$19*0.4,5) -> 10
B22: WU | C22: 5 | D22: =CEILING($C$19*0.5,5) -> 10 | F22: 5 | G22: =CEILING($C$19*0.5,5) -> 10 | I22: 5 | J22: =CEILING($C$19*0.5,5) -> 10
B23: WU | C23: 3 | D23: =CEILING($C$19*0.6,5) -> 15 | F23: 3 | G23: =CEILING($C$19*0.6,5) -> 15 | I23: 3 | J23: =CEILING($C$19*0.6,5) -> 15
B24: WS | C24: 5 | D24: =CEILING($C$19*0.65,5) -> 15 | F24: 3 | G24: =CEILING($C$19*0.7,5) -> 15 | I24: 5 | J24: =CEILING($C$19*0.75,5) -> 15 | L24: 5 | M24: =CEILING($C$19*0.4,5) -> 10
B25: WS | C25: 5 | D25: =CEILING($C$19*0.75,5) -> 15 | F25: 3 | G25: =CEILING($C$19*0.8,5) -> 20 | I25: 3 | J25: =CEILING($C$19*0.85,5) -> 20 | L25: 5 | M25: =CEILING($C$19*0.5,5) -> 10
B26: WS | C26: 5+ | D26: =CEILING($C$19*0.85,5) -> 20 | F26: 3+ | G26: =CEILING($C$19*0.89,5) -> 20 | I26: 1+ | J26: =CEILING($C$19*0.95,5) -> 20 | L26: 5 | M26: =CEILING($C$19*0.6,5) -> 15
L27: DELOAD
B28: MAX | C28: ='Start Page - Table 1 - Table 1'!B8 -> Push Press | F28: ='Start Page - Table 1 - Table 1'!B8 -> Push Press | I28: ='Start Page - Table 1 - Table 1'!B8 -> Push Press | L28: ='Start Page - Table 1 - Table 1'!B8 -> Push Press
B29: ='Month 2'!B29+10 -> 20 | C29: =CEILING(B29*0.9,5) -> 20 | F29: =C29 -> 20 | I29: =C29 -> 20 | L29: =C29 -> 20
C30: Reps | D30: Weight | F30: Reps | G30: Weight | I30: Reps | J30: Weight | L30: Reps | M30: Weight
B31: WU | C31: 5 | D31: =CEILING($C$29*0.4,5) -> 10 | F31: 5 | G31: =CEILING($C$29*0.4,5) -> 10 | I31: 5 | J31: =CEILING($C$29*0.4,5) -> 10
B32: WU | C32: 5 | D32: =CEILING($C$29*0.5,5) -> 10 | F32: 5 | G32: =CEILING($C$29*0.5,5) -> 10 | I32: 5 | J32: =CEILING($C$29*0.5,5) -> 10
B33: WU | C33: 3 | D33: =CEILING($C$29*0.6,5) -> 15 | F33: 3 | G33: =CEILING($C$29*0.6,5) -> 15 | I33: 3 | J33: =CEILING($C$29*0.6,5) -> 15
B34: WS | C34: 5 | D34: =CEILING($C$29*0.65,5) -> 15 | F34: 3 | G34: =CEILING($C$29*0.7,5) -> 15 | I34: 5 | J34: =CEILING($C$29*0.75,5) -> 15 | L34: 5 | M34: =CEILING($C$29*0.4,5) -> 10
B35: WS | C35: 5 | D35: =CEILING($C$29*0.75,5) -> 15 | F35: 3 | G35: =CEILING($C$29*0.8,5) -> 20 | I35: 3 | J35: =CEILING($C$29*0.85,5) -> 20 | L35: 5 | M35: =CEILING($C$29*0.5,5) -> 10
B36: WS | C36: 5+ | D36: =CEILING($C$29*0.85,5) -> 20 | F36: 3+ | G36: =CEILING($C$29*0.9,5) -> 20 | I36: 1+ | J36: =CEILING($C$29*0.95,5) -> 20 | L36: 5 | M36: =CEILING($C$29*0.6,5) -> 15
L37: DELOAD
B38: MAX | C38: ='Start Page - Table 1 - Table 1'!B9 -> Deadlift | F38: ='Start Page - Table 1 - Table 1'!B9 -> Deadlift | I38: ='Start Page - Table 1 - Table 1'!B9 -> Deadlift | L38: ='Start Page - Table 1 - Table 1'!B9 -> Deadlift
B39: ='Month 2'!B39+5 -> 10 | C39: =CEILING(B39*0.9,5) -> 10 | F39: =C39 -> 10 | I39: =C39 -> 10 | L39: =C39 -> 10
C40: Reps | D40: Weight | F40: Reps | G40: Weight | I40: Reps | J40: Weight | L40: Reps | M40: Weight
B41: WU | C41: 5 | D41: =CEILING($C$39*0.4,5) -> 5 | F41: 5 | G41: =CEILING($C$39*0.4,5) -> 5 | I41: 5 | J41: =CEILING($C$39*0.4,5) -> 5
B42: WU | C42: 5 | D42: =CEILING($C$39*0.5,5) -> 5 | F42: 5 | G42: =CEILING($C$39*0.5,5) -> 5 | I42: 5 | J42: =CEILING($C$39*0.5,5) -> 5
B43: WU | C43: 3 | D43: =CEILING($C$39*0.6,5) -> 10 | F43: 3 | G43: =CEILING($C$39*0.6,5) -> 10 | I43: 3 | J43: =CEILING($C$39*0.6,5) -> 10
B44: WS | C44: 5 | D44: =CEILING($C$39*0.65,5) -> 10 | F44: 3 | G44: =CEILING($C$39*0.7,5) -> 10 | I44: 5 | J44: =CEILING($C$39*0.75,5) -> 10 | L44: 5 | M44: =CEILING($C$39*0.4,5) -> 5
B45: WS | C45: 5 | D45: =CEILING($C$39*0.75,5) -> 10 | F45: 3 | G45: =CEILING($C$39*0.8,5) -> 10 | I45: 3 | J45: =CEILING($C$39*0.85,5) -> 10 | L45: 5 | M45: =CEILING($C$39*0.5,5) -> 5
B46: WS | C46: 5+ | D46: =CEILING($C$39*0.85,5) -> 10 | F46: 3+ | G46: =CEILING($C$39*0.9,5) -> 10 | I46: 1+ | J46: =CEILING($C$39*0.95,5) -> 10 | L46: 5 | M46: =CEILING($C$39*0.6,5) -> 10

Sheet Month 4
B2: Week 13 | F2: Week 14 | I2: Week 15 | L2: Week 16
B4: WS | C4: 65% x 5 reps | F4: 70% x 3 reps | I4: 75% x 5 reps | L4: 40% x 5 reps
B5: WS | C5: 75% x 5 reps | F5: 80% x 3 reps | I5: 85% x 3 reps | L5: 50% x 5 reps
B6: WS | C6: 85% x 5 or more | F6: 90% x 3 or more | I6: 95% x 1 or more | L6: 60% x 5
L7: DELOAD
B8: MAX | C8: ='Start Page - Table 1 - Table 1'!B6 -> Squat F/B/OH | F8: ='Start Page - Table 1 - Table 1'!B6 -> Squat F/B/OH | I8: ='Start Page - Table 1 - Table 1'!B6 -> Squat F/B/OH | L8: ='Start Page - Table 1 - Table 1'!B6 -> Squat F/B/OH
B9: ='Month 3'!B9+10 -> 30 | C9: =CEILING(B9*0.9,5) -> 30 | F9: =C9 -> 30 | I9: =C9 -> 30 | L9: =C9 -> 30
C10: Reps | D10: Weight | F10: Reps | G10: Weight | I10: Reps | J10: Weight | L10: Reps | M10: Weight
B11: WU | C11: 5 | D11: =CEILING($C$9*0.4,5) -> 15 | F11: 5 | G11: =CEILING($C$9*0.4,5) -> 15 | I11: 5 | J11: =CEILING($C$9*0.4,5) -> 15
B12: WU | C12: 5 | D12: =CEILING($C$9*0.5,5) -> 15 | F12: 5 | G12: =CEILING($C$9*0.5,5) -> 15 | I12: 5 | J12: =CEILING($C$9*0.5,5) -> 15
B13: WU | C13: 3 | D13: =CEILING($C$9*0.6,5) -> 20 | F13: 3 | G13: =CEILING($C$9*0.6,5) -> 20 | I13: 3 | J13: =CEILING($C$9*0.6,5) -> 20
B14: WS | C14: 5 | D14: =CEILING($C$9*0.65,5) -> 20 | F14: 3 | G14: =CEILING($C$9*0.7,5) -> 25 | I14: 5 | J14: =CEILING($C$9*0.75,5) -> 25 | L14: 5 | M14: =CEILING($C$9*0.4,5) -> 15
B15: WS | C15: 5 | D15: =CEILING($C$9*0.75,5) -> 25 | F15: 3 | G15: =CEILING($C$9*0.8,5) -> 25 | I15: 3 | J15: =CEILING($C$9*0.85,5) -> 30 | L15: 5 | M15: =CEILING($C$9*0.5,5) -> 15
B16: WS | C16: 5+ | D16: =CEILING($C$9*0.85,5) -> 30 | F16: 3+ | G16: =CEILING($C$9*0.9,5) -> 30 | I16: 1+ | J16: =CEILING($C$9*0.95,5) -> 30 | L16: 5 | M16: =CEILING($C$9*0.6,5) -> 20
L17: DELOAD
B18: MAX | C18: ='Start Page - Table 1 - Table 1'!B7 -> Power Cleans | F18: ='Start Page - Table 1 - Table 1'!B7 -> Power Cleans | I18: ='Start Page - Table 1 - Table 1'!B7 -> Power Cleans | L18: ='Start Page - Table 1 - Table 1'!B7 -> Power Cleans
B19: ='Month 3'!B19+10 -> 30 | C19: =CEILING(B19*0.9,5) -> 30 | F19: =C19 -> 30 | I19: =C19 -> 30 | L19: =C19 -> 30
C20: Reps | D20: Weight | F20: Reps | G20: Weight | I20: Reps | J20: Weight | L20: Reps | M20: Weight
B21: WU | C21: 5 | D21: =CEILING($C$19*0.4,5) -> 15 | F21: 5 | G21: =CEILING($C$19*0.4,5) -> 15 | I21: 5 | J21: =CEILING($C$19*0.4,5) -> 15
B22: WU | C22: 5 | D22: =CEILING($C$19*0.5,5) -> 15 | F22: 5 | G22: =CEILING($C$19*0.5,5) -> 15 | I22: 5 | J22: =CEILING($C$19*0.5,5) -> 15
B23: WU | C23: 3 | D23: =CEILING($C$19*0.6,5) -> 20 | F23: 3 | G23: =CEILING($C$19*0.6,5) -> 20 | I23: 3 | J23: =CEILING($C$19*0.6,5) -> 20
B24: WS | C24: 5 | D24: =CEILING($C$19*0.65,5) -> 20 | F24: 3 | G24: =CEILING($C$19*0.7,5) -> 25 | I24: 5 | J24: =CEILING($C$19*0.75,5) -> 25 | L24: 5 | M24: =CEILING($C$19*0.4,5) -> 15
B25: WS | C25: 5 | D25: =CEILING($C$19*0.75,5) -> 25 | F25: 3 | G25: =CEILING($C$19*0.8,5) -> 25 | I25: 3 | J25: =CEILING($C$19*0.85,5) -> 30 | L25: 5 | M25: =CEILING($C$19*0.5,5) -> 15
B26: WS | C26: 5+ | D26: =CEILING($C$19*0.85,5) -> 30 | F26: 3+ | G26: =CEILING($C$19*0.89,5) -> 30 | I26: 1+ | J26: =CEILING($C$19*0.95,5) -> 30 | L26: 5 | M26: =CEILING($C$19*0.6,5) -> 20
L27: DELOAD
B28: MAX | C28: ='Start Page - Table 1 - Table 1'!B8 -> Push Press | F28: ='Start Page - Table 1 - Table 1'!B8 -> Push Press | I28: ='Start Page - Table 1 - Table 1'!B8 -> Push Press | L28: ='Start Page - Table 1 - Table 1'!B8 -> Push Press
B29: ='Month 3'!B29+10 -> 30 | C29: =CEILING(B29*0.9,5) -> 30 | F29: =C29 -> 30 | I29: =C29 -> 30 | L29: =C29 -> 30
C30: Reps | D30: Weight | F30: Reps | G30: Weight | I30: Reps | J30: Weight | L30: Reps | M30: Weight
B31: WU | C31: 5 | D31: =CEILING($C$29*0.4,5) -> 15 | F31: 5 | G31: =CEILING($C$29*0.4,5) -> 15 | I31: 5 | J31: =CEILING($C$29*0.4,5) -> 15
B32: WU | C32: 5 | D32: =CEILING($C$29*0.5,5) -> 15 | F32: 5 | G32: =CEILING($C$29*0.5,5) -> 15 | I32: 5 | J32: =CEILING($C$29*0.5,5) -> 15
B33: WU | C33: 3 | D33: =CEILING($C$29*0.6,5) -> 20 | F33: 3 | G33: =CEILING($C$29*0.6,5) -> 20 | I33: 3 | J33: =CEILING($C$29*0.6,5) -> 20
B34: WS | C34: 5 | D34: =CEILING($C$29*0.65,5) -> 20 | F34: 3 | G34: =CEILING($C$29*0.7,5) -> 25 | I34: 5 | J34: =CEILING($C$29*0.75,5) -> 25 | L34: 5 | M34: =CEILING($C$29*0.4,5) -> 15
B35: WS | C35: 5 | D35: =CEILING($C$29*0.75,5) -> 25 | F35: 3 | G35: =CEILING($C$29*0.8,5) -> 25 | I35: 3 | J35: =CEILING($C$29*0.85,5) -> 30 | L35: 5 | M35: =CEILING($C$29*0.5,5) -> 15
B36: WS | C36: 5+ | D36: =CEILING($C$29*0.85,5) -> 30 | F36: 3+ | G36: =CEILING($C$29*0.9,5) -> 30 | I36: 1+ | J36: =CEILING($C$29*0.95,5) -> 30 | L36: 5 | M36: =CEILING($C$29*0.6,5) -> 20
L37: DELOAD
B38: MAX | C38: ='Start Page - Table 1 - Table 1'!B9 -> Deadlift | F38: ='Start Page - Table 1 - Table 1'!B9 -> Deadlift | I38: ='Start Page - Table 1 - Table 1'!B9 -> Deadlift | L38: ='Start Page - Table 1 - Table 1'!B9 -> Deadlift
B39: ='Month 3'!B39+5 -> 15 | C39: =CEILING(B39*0.9,5) -> 15 | F39: =C39 -> 15 | I39: =C39 -> 15 | L39: =C39 -> 15
C40: Reps | D40: Weight | F40: Reps | G40: Weight | I40: Reps | J40: Weight | L40: Reps | M40: Weight
B41: WU | C41: 5 | D41: =CEILING($C$39*0.4,5) -> 10 | F41: 5 | G41: =CEILING($C$39*0.4,5) -> 10 | I41: 5 | J41: =CEILING($C$39*0.4,5) -> 10
B42: WU | C42: 5 | D42: =CEILING($C$39*0.5,5) -> 10 | F42: 5 | G42: =CEILING($C$39*0.5,5) -> 10 | I42: 5 | J42: =CEILING($C$39*0.5,5) -> 10
B43: WU | C43: 3 | D43: =CEILING($C$39*0.6,5) -> 10 | F43: 3 | G43: =CEILING($C$39*0.6,5) -> 10 | I43: 3 | J43: =CEILING($C$39*0.6,5) -> 10
B44: WS | C44: 5 | D44: =CEILING($C$39*0.65,5) -> 10 | F44: 3 | G44: =CEILING($C$39*0.7,5) -> 15 | I44: 5 | J44: =CEILING($C$39*0.75,5) -> 15 | L44: 5 | M44: =CEILING($C$39*0.4,5) -> 10
B45: WS | C45: 5 | D45: =CEILING($C$39*0.75,5) -> 15 | F45: 3 | G45: =CEILING($C$39*0.8,5) -> 15 | I45: 3 | J45: =CEILING($C$39*0.85,5) -> 15 | L45: 5 | M45: =CEILING($C$39*0.5,5) -> 10
B46: WS | C46: 5+ | D46: =CEILING($C$39*0.85,5) -> 15 | F46: 3+ | G46: =CEILING($C$39*0.9,5) -> 15 | I46: 1+ | J46: =CEILING($C$39*0.95,5) -> 15 | L46: 5 | M46: =CEILING($C$39*0.6,5) -> 10

Sheet Compatibility Report
B1: Compatibility Report for 5-3-1-Program.xlsx
B2: Run on 4/28/2011 14:51
B4: The following features in this workbook are not supported by earlier versions of Excel. These features may be lost or degraded when you save this workbook in an earlier file format.
B6: Minor loss of fidelity | E6: # of occurrences
B8: Some cells or styles in this workbook contain formatting that is not supported by the selected file format. These formats will be converted to the closest format available. | E8: 8

Sheet Sheet1
